BEGIN:VCALENDAR
VERSION:2.0
METHOD:PUBLISH
CALSCALE:GREGORIAN
PRODID:-//Refresh Web Development//Helios Calendar//EN
X-FROM-URL:https://www.bayareascience.org/calendar/index.php?com=details&eID=35218
X-WR-RELCALID:BayAreaScience.org RoundTable: Taking Generative AI Enterprise Models to Production 20240131T090000
X-WR-TIMEZONE:America/New_York
X-WR-CALNAME:BayAreaScience.org
BEGIN:VEVENT
URL;VALUE=URI:https://www.bayareascience.org/calendar/index.php?com=detail&eID=35218
DTSTART:20240131T090000
DTEND:20240131T180000
SUMMARY:RoundTable: Taking Generative AI Enterprise Models to Production
DESCRIPTION:Generative AI (GenAI) is an emergent area that has many AI users excited. One key feature of GenAI applications includes using Retrieval Augmented Generation (RAG) to pull up text data...\n______________________________\nThis Event Downloaded From a Helios Calendar Powered Site
LOCATION:The Hibernia - 1 Jones St \, San Francisco\, CA 94102 
CATEGORIES:BayAreaScience.org Events
PRIORITY:0
TRANSP:TRANSPARENT
END:VEVENT
END:VCALENDAR