BEGIN:VCALENDAR
VERSION:2.0
METHOD:PUBLISH
CALSCALE:GREGORIAN
PRODID:-//Refresh Web Development//Helios Calendar//EN
X-FROM-URL:https://www.bayareascience.org/calendar/index.php?com=details&eID=35232
X-WR-RELCALID:BayAreaScience.org Toxic Beauty: The Effects of Phthalates and Bisphenols on Human Stem Cells and Embryo Development - Livestream 20240210T103000
X-WR-TIMEZONE:America/New_York
X-WR-CALNAME:BayAreaScience.org
BEGIN:VEVENT
URL;VALUE=URI:https://www.bayareascience.org/calendar/index.php?com=detail&eID=35232
DTSTART:20240210T103000
DTEND:20240210T120000
SUMMARY:Toxic Beauty: The Effects of Phthalates and Bisphenols on Human Stem Cells and Embryo Development - Livestream
DESCRIPTION:Dr. Schuhâ€™s...\n______________________________\nThis Event Downloaded From a Helios Calendar Powered Site
LOCATION:California Section American Chemical Society -  \, \, CA  
CATEGORIES:BayAreaScience.org Events
PRIORITY:0
TRANSP:TRANSPARENT
END:VEVENT
END:VCALENDAR