BEGIN:VCALENDAR
VERSION:2.0
METHOD:PUBLISH
CALSCALE:GREGORIAN
PRODID:-//Refresh Web Development//Helios Calendar//EN
X-FROM-URL:https://www.bayareascience.org/calendar/index.php?com=details&eID=35234
X-WR-RELCALID:BayAreaScience.org After Dark: Phenomenal Fun 20240201T180000
X-WR-TIMEZONE:America/New_York
X-WR-CALNAME:BayAreaScience.org
BEGIN:VEVENT
URL;VALUE=URI:https://www.bayareascience.org/calendar/index.php?com=detail&eID=35234
DTSTART:20240201T180000
DTEND:20240201T220000
SUMMARY:After Dark: Phenomenal Fun
DESCRIPTION:The Exploratorium is your playground after dark! Sip a cocktail and explore extraordinary science phenomena with 600+ interactive exhibits. Watch water freeze\, eavesdrop on people at the parabolic...\n______________________________\nThis Event Downloaded From a Helios Calendar Powered Site
LOCATION:ExplOratorium - Pier 15 (Embarcadero at Green Street)  \, San Francisco\, CA USA 94111
CATEGORIES:BayAreaScience.org Events
PRIORITY:0
TRANSP:TRANSPARENT
END:VEVENT
END:VCALENDAR