BEGIN:VCALENDAR
VERSION:2.0
METHOD:PUBLISH
CALSCALE:GREGORIAN
PRODID:-//Refresh Web Development//Helios Calendar//EN
X-FROM-URL:https://www.bayareascience.org/calendar/index.php?com=details&eID=35241
X-WR-RELCALID:BayAreaScience.org How to Make an Eye: Cephalopod Eye Development and the Evolution of Complexity 20240131T120000
X-WR-TIMEZONE:America/New_York
X-WR-CALNAME:BayAreaScience.org
BEGIN:VEVENT
URL;VALUE=URI:https://www.bayareascience.org/calendar/index.php?com=detail&eID=35241
DTSTART:20240131T120000
DTEND:20240131T130000
SUMMARY:How to Make an Eye: Cephalopod Eye Development and the Evolution of Complexity
DESCRIPTION:Understanding the mechanisms that enable the evolution of complexity remains a difficult problem in biology. In On the Origin of Species\, Darwin discussed the eye as an important context to better...\n______________________________\nThis Event Downloaded From a Helios Calendar Powered Site
LOCATION:Weill Hall - UC Berkeley Room 101\, Berkeley\, CA  94720
CATEGORIES:BayAreaScience.org Events
PRIORITY:0
TRANSP:TRANSPARENT
END:VEVENT
END:VCALENDAR