BEGIN:VCALENDAR
VERSION:2.0
METHOD:PUBLISH
CALSCALE:GREGORIAN
PRODID:-//Refresh Web Development//Helios Calendar//EN
X-FROM-URL:https://www.bayareascience.org/calendar/index.php?com=details&eID=35242
X-WR-RELCALID:BayAreaScience.org Molecular and cellular bases of coral symbiosis and its breakdown 20240306T120000
X-WR-TIMEZONE:America/New_York
X-WR-CALNAME:BayAreaScience.org
BEGIN:VEVENT
URL;VALUE=URI:https://www.bayareascience.org/calendar/index.php?com=detail&eID=35242
DTSTART:20240306T120000
DTEND:20240306T130000
SUMMARY:Molecular and cellular bases of coral symbiosis and its breakdown
DESCRIPTION:interaction and is hypothesized to have given rise to much of eukaryotic cellular complexity. The endosymbiosis between corals and dinoflagellate algae is essential to the energetic requirements...\n______________________________\nThis Event Downloaded From a Helios Calendar Powered Site
LOCATION:Weill Hall - UC Berkeley Room 101\, Berkeley\, CA  94720
CATEGORIES:BayAreaScience.org Events
PRIORITY:0
TRANSP:TRANSPARENT
END:VEVENT
END:VCALENDAR