BEGIN:VCALENDAR
VERSION:2.0
METHOD:PUBLISH
CALSCALE:GREGORIAN
PRODID:-//Refresh Web Development//Helios Calendar//EN
X-FROM-URL:https://www.bayareascience.org/calendar/index.php?com=details&eID=35246
X-WR-RELCALID:BayAreaScience.org National Security in an Uncertain World 20240213T160000
X-WR-TIMEZONE:America/New_York
X-WR-CALNAME:BayAreaScience.org
BEGIN:VEVENT
URL;VALUE=URI:https://www.bayareascience.org/calendar/index.php?com=detail&eID=35246
DTSTART:20240213T160000
DTEND:20240213T180000
SUMMARY:National Security in an Uncertain World
DESCRIPTION:Dr. Kimberly S. Budil will join the Berkeley Risk and Security Lab (BRSL) for a discussion on the role of the national laboratories\, specifically Lawrence...\n______________________________\nThis Event Downloaded From a Helios Calendar Powered Site
LOCATION:Sutardja Dai Hall - UC Berkeley Banatao Auditorium\, Berkeley\, CA  94720
CATEGORIES:BayAreaScience.org Events
PRIORITY:0
TRANSP:TRANSPARENT
END:VEVENT
END:VCALENDAR