BEGIN:VCALENDAR
VERSION:2.0
METHOD:PUBLISH
CALSCALE:GREGORIAN
PRODID:-//Refresh Web Development//Helios Calendar//EN
X-FROM-URL:https://www.bayareascience.org/calendar/index.php?com=details&eID=35247
X-WR-RELCALID:BayAreaScience.org Drought, Atmospheric Rivers and Floods, Oh My! - Livestream 20240124T190000
X-WR-TIMEZONE:America/New_York
X-WR-CALNAME:BayAreaScience.org
BEGIN:VEVENT
URL;VALUE=URI:https://www.bayareascience.org/calendar/index.php?com=detail&eID=35247
DTSTART:20240124T190000
DTEND:20240124T203000
SUMMARY:Drought\, Atmospheric Rivers and Floods\, Oh My! - Livestream
DESCRIPTION:Join us for an exciting online event. We'll delve into the fascinating world of weather. From droughts to atmospheric rivers and floods\, this event has it all!Learn why California is experiencing...\n______________________________\nThis Event Downloaded From a Helios Calendar Powered Site
LOCATION:City of Sunnyvale -  \, \, CA  
CATEGORIES:BayAreaScience.org Events
PRIORITY:0
TRANSP:TRANSPARENT
END:VEVENT
END:VCALENDAR