BEGIN:VCALENDAR
VERSION:2.0
METHOD:PUBLISH
CALSCALE:GREGORIAN
PRODID:-//Refresh Web Development//Helios Calendar//EN
X-FROM-URL:https://www.bayareascience.org/calendar/index.php?com=details&eID=35248
X-WR-RELCALID:BayAreaScience.org Microplastic? Macro Problems - Livestream 20240207T180000
X-WR-TIMEZONE:America/New_York
X-WR-CALNAME:BayAreaScience.org
BEGIN:VEVENT
URL;VALUE=URI:https://www.bayareascience.org/calendar/index.php?com=detail&eID=35248
DTSTART:20240207T180000
DTEND:20240207T193000
SUMMARY:Microplastic? Macro Problems - Livestream
DESCRIPTION:Explore how plastic waste contributes to our changing climate. Dr. Imari Walker-Franklin will teach you how plastic impacts our health and the environment. Learn solutions to our growing microplastics...\n______________________________\nThis Event Downloaded From a Helios Calendar Powered Site
LOCATION:City of Sunnyvale -  \, \, CA  
CATEGORIES:BayAreaScience.org Events
PRIORITY:0
TRANSP:TRANSPARENT
END:VEVENT
END:VCALENDAR