BEGIN:VCALENDAR
VERSION:2.0
METHOD:PUBLISH
CALSCALE:GREGORIAN
PRODID:-//Refresh Web Development//Helios Calendar//EN
X-FROM-URL:https://www.bayareascience.org/calendar/index.php?com=details&eID=35262
X-WR-RELCALID:BayAreaScience.org  Lunar Landing Sites, Past and Future 20240127T193000
X-WR-TIMEZONE:America/New_York
X-WR-CALNAME:BayAreaScience.org
BEGIN:VEVENT
URL;VALUE=URI:https://www.bayareascience.org/calendar/index.php?com=detail&eID=35262
DTSTART:20240127T193000
DTEND:20240127T193000
SUMMARY: Lunar Landing Sites\, Past and Future
DESCRIPTION:As we look back on the discoveries of the Apollo program\, now more than fifty years ago\, and stand on the verge of a new generation of lunar exploration through the Artemis Program\, it is appropriate...\n______________________________\nThis Event Downloaded From a Helios Calendar Powered Site
LOCATION:East Bay Astronomical Society - Chabot Space & Science Center\, 10000 Skyline Blvd Classroom 4 formerly knows as Copernicus\, Oakland\, CA  94619
CATEGORIES:BayAreaScience.org Events
PRIORITY:0
TRANSP:TRANSPARENT
END:VEVENT
END:VCALENDAR