BEGIN:VCALENDAR
VERSION:2.0
METHOD:PUBLISH
CALSCALE:GREGORIAN
PRODID:-//Refresh Web Development//Helios Calendar//EN
X-FROM-URL:https://www.bayareascience.org/calendar/index.php?com=details&eID=35263
X-WR-RELCALID:BayAreaScience.org Hexagon: Spies in the Sky - Reconnaissance Technology during the Cold War 20240217T110000
X-WR-TIMEZONE:America/New_York
X-WR-CALNAME:BayAreaScience.org
BEGIN:VEVENT
URL;VALUE=URI:https://www.bayareascience.org/calendar/index.php?com=detail&eID=35263
DTSTART:20240217T110000
DTEND:20240217T120000
SUMMARY:Hexagon: Spies in the Sky - Reconnaissance Technology during the Cold War
DESCRIPTION:During the Cold War\, the US evolved reconnaissance...\n______________________________\nThis Event Downloaded From a Helios Calendar Powered Site
LOCATION:Hiller Aviation Museum - 601 Skyway Rd. \, San Carlos\, CA  94070
CATEGORIES:BayAreaScience.org Events
PRIORITY:0
TRANSP:TRANSPARENT
END:VEVENT
END:VCALENDAR