BEGIN:VCALENDAR
VERSION:2.0
METHOD:PUBLISH
CALSCALE:GREGORIAN
PRODID:-//Refresh Web Development//Helios Calendar//EN
X-FROM-URL:https://www.bayareascience.org/calendar/index.php?com=details&eID=35267
X-WR-RELCALID:BayAreaScience.org Renewable Power: Powering Electric Cars and Storing Renewable Energy with Energy-dense Batteries- Livestream 20240306T193000
X-WR-TIMEZONE:America/New_York
X-WR-CALNAME:BayAreaScience.org
BEGIN:VEVENT
URL;VALUE=URI:https://www.bayareascience.org/calendar/index.php?com=detail&eID=35267
DTSTART:20240306T193000
DTEND:20240306T203000
SUMMARY:Renewable Power: Powering Electric Cars and Storing Renewable Energy with Energy-dense Batteries- Livestream
DESCRIPTION:See weblink to register and receive connection informationSpeaker: Jason Lipton is a chemical engineer and research scientist at HRL Labs in Malibu\, California\n______________________________\nThis Event Downloaded From a Helios Calendar Powered Site
LOCATION:Marin Science Seminar - 320 Nova Albion Way Terra Linda High School Innovation Hub 1st Floor\, San Rafael\, CA USA 94903
CATEGORIES:BayAreaScience.org Events
PRIORITY:0
TRANSP:TRANSPARENT
END:VEVENT
END:VCALENDAR