BEGIN:VCALENDAR
VERSION:2.0
METHOD:PUBLISH
CALSCALE:GREGORIAN
PRODID:-//Refresh Web Development//Helios Calendar//EN
X-FROM-URL:https://www.bayareascience.org/calendar/index.php?com=details&eID=35275
X-WR-RELCALID:BayAreaScience.org  The Search for Life Beyond Earth: How itâ€™s Done, Where it Stands and Why it Matters - Livestream 20240213T090000
X-WR-TIMEZONE:America/New_York
X-WR-CALNAME:BayAreaScience.org
BEGIN:VEVENT
URL;VALUE=URI:https://www.bayareascience.org/calendar/index.php?com=detail&eID=35275
DTSTART:20240213T090000
DTEND:20240213T100000
SUMMARY: The Search for Life Beyond Earth: How itâ€™s Done\, Where it Stands and Why it Matters - Livestream
DESCRIPTION:Humans have pondered the...\n______________________________\nThis Event Downloaded From a Helios Calendar Powered Site
LOCATION:SETI Institute -  \, \, CA  
CATEGORIES:BayAreaScience.org Events
PRIORITY:0
TRANSP:TRANSPARENT
END:VEVENT
END:VCALENDAR