BEGIN:VCALENDAR
VERSION:2.0
METHOD:PUBLISH
CALSCALE:GREGORIAN
PRODID:-//Refresh Web Development//Helios Calendar//EN
X-FROM-URL:https://www.bayareascience.org/calendar/index.php?com=details&eID=35277
X-WR-RELCALID:BayAreaScience.org A Sharper Look at the M87 Black Hole with PRIMO 20240208T154000
X-WR-TIMEZONE:America/New_York
X-WR-CALNAME:BayAreaScience.org
BEGIN:VEVENT
URL;VALUE=URI:https://www.bayareascience.org/calendar/index.php?com=detail&eID=35277
DTSTART:20240208T154000
DTEND:20240208T163000
SUMMARY:A Sharper Look at the M87 Black Hole with PRIMO
DESCRIPTION:The Event Horizon Telescope (EHT) is a very long baseline interferometer incorporating several radio telescopes spread all over the world.Â  The sparse interferometric coverage of the Event Horizon...\n______________________________\nThis Event Downloaded From a Helios Calendar Powered Site
LOCATION:Physics North - UC Berkeley Room 1\, Berkeley\, CA  94720
CATEGORIES:BayAreaScience.org Events
PRIORITY:0
TRANSP:TRANSPARENT
END:VEVENT
END:VCALENDAR