BEGIN:VCALENDAR
VERSION:2.0
METHOD:PUBLISH
CALSCALE:GREGORIAN
PRODID:-//Refresh Web Development//Helios Calendar//EN
X-FROM-URL:https://www.bayareascience.org/calendar/index.php?com=details&eID=35279
X-WR-RELCALID:BayAreaScience.org Patience is a Virtue: The 15-Year NANOGrav Gravitational Wave Results 20240222T153000
X-WR-TIMEZONE:America/New_York
X-WR-CALNAME:BayAreaScience.org
BEGIN:VEVENT
URL;VALUE=URI:https://www.bayareascience.org/calendar/index.php?com=detail&eID=35279
DTSTART:20240222T153000
DTEND:20240222T153000
SUMMARY:Patience is a Virtue: The 15-Year NANOGrav Gravitational Wave Results
DESCRIPTION:This past summer\, the pulsar timing array community announced strong evidence for the presence of a stochastic background of nanoHertz frequency gravitational waves.Â  This has been the primary...\n______________________________\nThis Event Downloaded From a Helios Calendar Powered Site
LOCATION:Physics North - UC Berkeley Room 1\, Berkeley\, CA  94720
CATEGORIES:BayAreaScience.org Events
PRIORITY:0
TRANSP:TRANSPARENT
END:VEVENT
END:VCALENDAR