BEGIN:VCALENDAR
VERSION:2.0
METHOD:PUBLISH
CALSCALE:GREGORIAN
PRODID:-//Refresh Web Development//Helios Calendar//EN
X-FROM-URL:https://www.bayareascience.org/calendar/index.php?com=details&eID=35299
X-WR-RELCALID:BayAreaScience.org Bringing Back the Natives Garden Online Tour 20240406T100000
X-WR-TIMEZONE:America/New_York
X-WR-CALNAME:BayAreaScience.org
BEGIN:VEVENT
URL;VALUE=URI:https://www.bayareascience.org/calendar/index.php?com=detail&eID=35299
DTSTART:20240406T100000
DTEND:20240406T150000
SUMMARY:Bringing Back the Natives Garden Online Tour
DESCRIPTION:View via Zoom or YouTube.Â  Links will be emailed 1 week before the events.Register at weblink.Â  Registration includes both days of the online tours as well as both days of the in-person...\n______________________________\nThis Event Downloaded From a Helios Calendar Powered Site
LOCATION:Bringing Back the Natives -  \, \, CA  
CATEGORIES:BayAreaScience.org Events
PRIORITY:0
TRANSP:TRANSPARENT
END:VEVENT
END:VCALENDAR