BEGIN:VCALENDAR
VERSION:2.0
METHOD:PUBLISH
CALSCALE:GREGORIAN
PRODID:-//Refresh Web Development//Helios Calendar//EN
X-FROM-URL:https://www.bayareascience.org/calendar/index.php?com=details&eID=35301
X-WR-RELCALID:BayAreaScience.org Bringing Back the Natives In-Person Garden Tour - Bayside Gardens 20240504T100000
X-WR-TIMEZONE:America/New_York
X-WR-CALNAME:BayAreaScience.org
BEGIN:VEVENT
URL;VALUE=URI:https://www.bayareascience.org/calendar/index.php?com=detail&eID=35301
DTSTART:20240504T100000
DTEND:20240504T170000
SUMMARY:Bringing Back the Natives In-Person Garden Tour - Bayside Gardens
DESCRIPTION:About ten days before the in-person Tour three PDFs will be e-mailed to registrants. One will contain addresses and a map that shows the relative locations of the Bayside gardens\; another will...\n______________________________\nThis Event Downloaded From a Helios Calendar Powered Site
LOCATION:Bringing Back the Natives -  \, \, CA  
CATEGORIES:BayAreaScience.org Events
PRIORITY:0
TRANSP:TRANSPARENT
END:VEVENT
END:VCALENDAR