BEGIN:VCALENDAR
VERSION:2.0
METHOD:PUBLISH
CALSCALE:GREGORIAN
PRODID:-//Refresh Web Development//Helios Calendar//EN
X-FROM-URL:https://www.bayareascience.org/calendar/index.php?com=details&eID=35316
X-WR-RELCALID:BayAreaScience.org Galactic Archeology: Using Stars to Map the Structure and Evolution of the Milky Way 20240713T203000
X-WR-TIMEZONE:America/New_York
X-WR-CALNAME:BayAreaScience.org
BEGIN:VEVENT
URL;VALUE=URI:https://www.bayareascience.org/calendar/index.php?com=detail&eID=35316
DTSTART:20240713T203000
DTEND:20240713T203000
SUMMARY:Galactic Archeology: Using Stars to Map the Structure and Evolution of the Milky Way
DESCRIPTION:\n______________________________\nThis Event Downloaded From a Helios Calendar Powered Site
LOCATION:Lick Observatory - 7299 Mt. Hamilton Rd \, Mt. Hamilton\, CA  95140
CATEGORIES:BayAreaScience.org Events
PRIORITY:0
TRANSP:TRANSPARENT
END:VEVENT
END:VCALENDAR