BEGIN:VCALENDAR
VERSION:2.0
METHOD:PUBLISH
CALSCALE:GREGORIAN
PRODID:-//Refresh Web Development//Helios Calendar//EN
X-FROM-URL:https://www.bayareascience.org/calendar/index.php?com=details&eID=35319
X-WR-RELCALID:BayAreaScience.org Is Anybody Out There? Whatâ€™s New in the Search for Extraterrestrial Civilizations 20240127T193000
X-WR-TIMEZONE:America/New_York
X-WR-CALNAME:BayAreaScience.org
BEGIN:VEVENT
URL;VALUE=URI:https://www.bayareascience.org/calendar/index.php?com=detail&eID=35319
DTSTART:20240127T193000
DTEND:20240127T210000
SUMMARY:Is Anybody Out There? Whatâ€™s New in the Search for Extraterrestrial Civilizations
DESCRIPTION:What is the possibility of other intelligent life in the universe? Can we detect radio\, infrared\, or optical signals from other civilizations? Current and future SETI projects may provide an answer....\n______________________________\nThis Event Downloaded From a Helios Calendar Powered Site
LOCATION:San Jose Astronomical Association - Houge Park 3972 Twilight Drive\, San Jose\, CA  95124
CATEGORIES:BayAreaScience.org Events
PRIORITY:0
TRANSP:TRANSPARENT
END:VEVENT
END:VCALENDAR