BEGIN:VCALENDAR
VERSION:2.0
METHOD:PUBLISH
CALSCALE:GREGORIAN
PRODID:-//Refresh Web Development//Helios Calendar//EN
X-FROM-URL:https://www.bayareascience.org/calendar/index.php?com=details&eID=35326
X-WR-RELCALID:BayAreaScience.org COP28 Debrief: Attendees reflect on Dubai outcomes - Livestream 20240122T120000
X-WR-TIMEZONE:America/New_York
X-WR-CALNAME:BayAreaScience.org
BEGIN:VEVENT
URL;VALUE=URI:https://www.bayareascience.org/calendar/index.php?com=detail&eID=35326
DTSTART:20240122T120000
DTEND:20240122T130000
SUMMARY:COP28 Debrief: Attendees reflect on Dubai outcomes - Livestream
DESCRIPTION:For the first time at a United Nations Conference of the Parties (COP)\, countries have agreed on the need to â€œtransition away from fossil fuels in energy systems.â€Chris Field\,...\n______________________________\nThis Event Downloaded From a Helios Calendar Powered Site
LOCATION:Stanford Woods Institute for the Environment -  \, \, CA  
CATEGORIES:BayAreaScience.org Events
PRIORITY:0
TRANSP:TRANSPARENT
END:VEVENT
END:VCALENDAR