BEGIN:VCALENDAR
VERSION:2.0
METHOD:PUBLISH
CALSCALE:GREGORIAN
PRODID:-//Refresh Web Development//Helios Calendar//EN
X-FROM-URL:https://www.bayareascience.org/calendar/index.php?com=details&eID=35329
X-WR-RELCALID:BayAreaScience.org Indigenous Sovereign Futures 20240206T190000
X-WR-TIMEZONE:America/New_York
X-WR-CALNAME:BayAreaScience.org
BEGIN:VEVENT
URL;VALUE=URI:https://www.bayareascience.org/calendar/index.php?com=detail&eID=35329
DTSTART:20240206T190000
DTEND:20240206T190000
SUMMARY:Indigenous Sovereign Futures
DESCRIPTION:Alternative visions for social change rooted in the frameworks of capitalism and colonialism only reproduce contemporary structures of power. How can indigenous perspectives and knowledge inform...\n______________________________\nThis Event Downloaded From a Helios Calendar Powered Site
LOCATION:The Interval at Long Now - 2 Marina Blvd Fort Mason Center\, San Francisco\, CA  94123
CATEGORIES:BayAreaScience.org Events
PRIORITY:0
TRANSP:TRANSPARENT
END:VEVENT
END:VCALENDAR