BEGIN:VCALENDAR
VERSION:2.0
METHOD:PUBLISH
CALSCALE:GREGORIAN
PRODID:-//Refresh Web Development//Helios Calendar//EN
X-FROM-URL:https://www.bayareascience.org/calendar/index.php?com=details&eID=35330
X-WR-RELCALID:BayAreaScience.org Stewardship Saturday: Navigating the Bay Shore with Cafe Ohlone 20240224T110000
X-WR-TIMEZONE:America/New_York
X-WR-CALNAME:BayAreaScience.org
BEGIN:VEVENT
URL;VALUE=URI:https://www.bayareascience.org/calendar/index.php?com=detail&eID=35330
DTSTART:20240224T110000
DTEND:20240224T141500
SUMMARY:Stewardship Saturday: Navigating the Bay Shore with Cafe Ohlone
DESCRIPTION:Join Cafe Ohlone\, Coyote Hills Regional Park\, and The Marine Mammal Center as we embark on a winter hike through the marshes\, along the bay shore\, and up the hill\, led by Cafe Ohlone co-founders...\n______________________________\nThis Event Downloaded From a Helios Calendar Powered Site
LOCATION:Coyote Hills Parking Lot - 8000 Patterson Ranch Rd \, Fremont\, CA  94555
CATEGORIES:BayAreaScience.org Events
PRIORITY:0
TRANSP:TRANSPARENT
END:VEVENT
END:VCALENDAR