BEGIN:VCALENDAR
VERSION:2.0
METHOD:PUBLISH
CALSCALE:GREGORIAN
PRODID:-//Refresh Web Development//Helios Calendar//EN
X-FROM-URL:https://www.bayareascience.org/calendar/index.php?com=details&eID=35331
X-WR-RELCALID:BayAreaScience.org Navigating Eco-Grief 20240119T180000
X-WR-TIMEZONE:America/New_York
X-WR-CALNAME:BayAreaScience.org
BEGIN:VEVENT
URL;VALUE=URI:https://www.bayareascience.org/calendar/index.php?com=detail&eID=35331
DTSTART:20240119T180000
DTEND:20240119T203000
SUMMARY:Navigating Eco-Grief
DESCRIPTION:Join...\n______________________________\nThis Event Downloaded From a Helios Calendar Powered Site
LOCATION:Seymour Marine Discovery Center - 100 McAllister Way Los Feliz Room\, Santa Cruz\, CA  95060
CATEGORIES:BayAreaScience.org Events
PRIORITY:0
TRANSP:TRANSPARENT
END:VEVENT
END:VCALENDAR