BEGIN:VCALENDAR
VERSION:2.0
METHOD:PUBLISH
CALSCALE:GREGORIAN
PRODID:-//Refresh Web Development//Helios Calendar//EN
X-FROM-URL:https://www.bayareascience.org/calendar/index.php?com=details&eID=35335
X-WR-RELCALID:BayAreaScience.org Maximizing the Value of Water Infrastructure Investments 20240122T123000
X-WR-TIMEZONE:America/New_York
X-WR-CALNAME:BayAreaScience.org
BEGIN:VEVENT
URL;VALUE=URI:https://www.bayareascience.org/calendar/index.php?com=detail&eID=35335
DTSTART:20240122T123000
DTEND:20240122T133000
SUMMARY:Maximizing the Value of Water Infrastructure Investments
DESCRIPTION:Significant public spending is required to repair aging water infrastructure and prepare water systems for future changes in supply\, demand\, and storage driven by climate change. But recent landmark...\n______________________________\nThis Event Downloaded From a Helios Calendar Powered Site
LOCATION:Shriram Center - Stanford University Room 104\, Stanford\, CA  94305
CATEGORIES:BayAreaScience.org Events
PRIORITY:0
TRANSP:TRANSPARENT
END:VEVENT
END:VCALENDAR