BEGIN:VCALENDAR
VERSION:2.0
METHOD:PUBLISH
CALSCALE:GREGORIAN
PRODID:-//Refresh Web Development//Helios Calendar//EN
X-FROM-URL:https://www.bayareascience.org/calendar/index.php?com=details&eID=35337
X-WR-RELCALID:BayAreaScience.org Matrix on Point: Surveillance and Privacy in a Biometric World 20240215T160000
X-WR-TIMEZONE:America/New_York
X-WR-CALNAME:BayAreaScience.org
BEGIN:VEVENT
URL;VALUE=URI:https://www.bayareascience.org/calendar/index.php?com=detail&eID=35337
DTSTART:20240215T160000
DTEND:20240215T160000
SUMMARY:Matrix on Point: Surveillance and Privacy in a Biometric World
DESCRIPTION:As governments and businesses begin to use more forms of biometric identification - including fingerprints\, facial recognition\, and voice recognition\, among others - itâ€™s easier than ever...\n______________________________\nThis Event Downloaded From a Helios Calendar Powered Site
LOCATION:Social Sciences Building Room 820 - UC Berkeley \, Berkeley\, CA  94720
CATEGORIES:BayAreaScience.org Events
PRIORITY:0
TRANSP:TRANSPARENT
END:VEVENT
END:VCALENDAR