BEGIN:VCALENDAR
VERSION:2.0
METHOD:PUBLISH
CALSCALE:GREGORIAN
PRODID:-//Refresh Web Development//Helios Calendar//EN
X-FROM-URL:https://www.bayareascience.org/calendar/index.php?com=details&eID=35345
X-WR-RELCALID:BayAreaScience.org Funnel of Love: The Secret Sex Lives of Harbor Porpoises - Livestream 20240214T120000
X-WR-TIMEZONE:America/New_York
X-WR-CALNAME:BayAreaScience.org
BEGIN:VEVENT
URL;VALUE=URI:https://www.bayareascience.org/calendar/index.php?com=detail&eID=35345
DTSTART:20240214T120000
DTEND:20240214T130000
SUMMARY:Funnel of Love: The Secret Sex Lives of Harbor Porpoises - Livestream
DESCRIPTION:Did you know that the waters underneath the Golden Gate Bridge are a breeding hotspot for harbor porpoises? In this fun and fascinating virtual event\, youâ€™ll learn all about the mating behaviors...\n______________________________\nThis Event Downloaded From a Helios Calendar Powered Site
LOCATION:Marine Mammal Center -  \, \, CA  
CATEGORIES:BayAreaScience.org Events
PRIORITY:0
TRANSP:TRANSPARENT
END:VEVENT
END:VCALENDAR