BEGIN:VCALENDAR
VERSION:2.0
METHOD:PUBLISH
CALSCALE:GREGORIAN
PRODID:-//Refresh Web Development//Helios Calendar//EN
X-FROM-URL:https://www.bayareascience.org/calendar/index.php?com=details&eID=35346
X-WR-RELCALID:BayAreaScience.org Diversity and Distribution of the genus Boletus sensu stricto in the American Continent 20240220T190000
X-WR-TIMEZONE:America/New_York
X-WR-CALNAME:BayAreaScience.org
BEGIN:VEVENT
URL;VALUE=URI:https://www.bayareascience.org/calendar/index.php?com=detail&eID=35346
DTSTART:20240220T190000
DTEND:20240220T190000
SUMMARY:Diversity and Distribution of the genus Boletus sensu stricto in the American Continent
DESCRIPTION:Speaker: Roberto Flores Arzu\, Biologist...\n______________________________\nThis Event Downloaded From a Helios Calendar Powered Site
LOCATION:Mycological Society of San Francisco - Randall Museum 199 Museum Way\, San Francisco\, CA  94114
CATEGORIES:BayAreaScience.org Events
PRIORITY:0
TRANSP:TRANSPARENT
END:VEVENT
END:VCALENDAR