BEGIN:VCALENDAR
VERSION:2.0
METHOD:PUBLISH
CALSCALE:GREGORIAN
PRODID:-//Refresh Web Development//Helios Calendar//EN
X-FROM-URL:https://www.bayareascience.org/calendar/index.php?com=details&eID=35348
X-WR-RELCALID:BayAreaScience.org Randall Museum Science Festival 20240302T103000
X-WR-TIMEZONE:America/New_York
X-WR-CALNAME:BayAreaScience.org
BEGIN:VEVENT
URL;VALUE=URI:https://www.bayareascience.org/calendar/index.php?com=detail&eID=35348
DTSTART:20240302T103000
DTEND:20240302T160000
SUMMARY:Randall Museum Science Festival
DESCRIPTION:This yearâ€™s celebration includes a special family-friendly Science Festival for visitors of all ages. Kids and their families can enjoy free live animal encounters\, discover more information...\n______________________________\nThis Event Downloaded From a Helios Calendar Powered Site
LOCATION:Randall Museum - 199 Museum Way \, San Francisco\, CA  94114
CATEGORIES:BayAreaScience.org Events
PRIORITY:0
TRANSP:TRANSPARENT
END:VEVENT
END:VCALENDAR