BEGIN:VCALENDAR
VERSION:2.0
METHOD:PUBLISH
CALSCALE:GREGORIAN
PRODID:-//Refresh Web Development//Helios Calendar//EN
X-FROM-URL:https://www.bayareascience.org/calendar/index.php?com=details&eID=35352
X-WR-RELCALID:BayAreaScience.org ab initio thermodynamics and beyond  20240318T143000
X-WR-TIMEZONE:America/New_York
X-WR-CALNAME:BayAreaScience.org
BEGIN:VEVENT
URL;VALUE=URI:https://www.bayareascience.org/calendar/index.php?com=detail&eID=35352
DTSTART:20240318T143000
DTEND:20240318T153000
SUMMARY:ab initio thermodynamics and beyond 
DESCRIPTION:A central goal of computational chemistry is to predict material properties using first-principles methods based on the fundamental laws of quantum mechanics. However\, the high computational costs...\n______________________________\nThis Event Downloaded From a Helios Calendar Powered Site
LOCATION:Birge Hall - 100 South Dr Room 50\, UC Berkeley\, Berkeley\, CA  94720
CATEGORIES:BayAreaScience.org Events
PRIORITY:0
TRANSP:TRANSPARENT
END:VEVENT
END:VCALENDAR