BEGIN:VCALENDAR
VERSION:2.0
METHOD:PUBLISH
CALSCALE:GREGORIAN
PRODID:-//Refresh Web Development//Helios Calendar//EN
X-FROM-URL:https://www.bayareascience.org/calendar/index.php?com=details&eID=35354
X-WR-RELCALID:BayAreaScience.org PubScience: Is Anybody Out There? Innovative Approaches in the Search for Extraterrestrial Civilizations 20240201T183000
X-WR-TIMEZONE:America/New_York
X-WR-CALNAME:BayAreaScience.org
BEGIN:VEVENT
URL;VALUE=URI:https://www.bayareascience.org/calendar/index.php?com=detail&eID=35354
DTSTART:20240201T183000
DTEND:20240201T183000
SUMMARY:PubScience: Is Anybody Out There? Innovative Approaches in the Search for Extraterrestrial Civilizations
DESCRIPTION:Speaker: Dan Werthimer\, Berkeley SETI Research Center\n______________________________\nThis Event Downloaded From a Helios Calendar Powered Site
LOCATION:Ocean View Brew Works - 627 San Pablo Ave. \, Albany\, CA  94706
CATEGORIES:BayAreaScience.org Events
PRIORITY:0
TRANSP:TRANSPARENT
END:VEVENT
END:VCALENDAR