BEGIN:VCALENDAR
VERSION:2.0
METHOD:PUBLISH
CALSCALE:GREGORIAN
PRODID:-//Refresh Web Development//Helios Calendar//EN
X-FROM-URL:https://www.bayareascience.org/calendar/index.php?com=details&eID=35355
X-WR-RELCALID:BayAreaScience.org Makerspace Science Talk with Dan Palance 20240224T113000
X-WR-TIMEZONE:America/New_York
X-WR-CALNAME:BayAreaScience.org
BEGIN:VEVENT
URL;VALUE=URI:https://www.bayareascience.org/calendar/index.php?com=detail&eID=35355
DTSTART:20240224T113000
DTEND:20240224T123000
SUMMARY:Makerspace Science Talk with Dan Palance
DESCRIPTION:Join us for an informative presentation by Dan Palance on marine hotspots and their significance to coastal communities. Danâ€™s research uses hotspot concepts and advanced modeling to forecast...\n______________________________\nThis Event Downloaded From a Helios Calendar Powered Site
LOCATION:Seymour Marine Discovery Center - 100 McAllister Way Los Feliz Room\, Santa Cruz\, CA  95060
CATEGORIES:BayAreaScience.org Events
PRIORITY:0
TRANSP:TRANSPARENT
END:VEVENT
END:VCALENDAR