BEGIN:VCALENDAR
VERSION:2.0
METHOD:PUBLISH
CALSCALE:GREGORIAN
PRODID:-//Refresh Web Development//Helios Calendar//EN
X-FROM-URL:https://www.bayareascience.org/calendar/index.php?com=details&eID=35360
X-WR-RELCALID:BayAreaScience.org Connecting Turbulence to Ecology at Multiple Scales 20240125T120000
X-WR-TIMEZONE:America/New_York
X-WR-CALNAME:BayAreaScience.org
BEGIN:VEVENT
URL;VALUE=URI:https://www.bayareascience.org/calendar/index.php?com=detail&eID=35360
DTSTART:20240125T120000
DTEND:20240125T130000
SUMMARY:Connecting Turbulence to Ecology at Multiple Scales
DESCRIPTION:The last 10-15 years of physical oceanographic research makes clear that a particular class of turbulent currents - thin\, elongated fronts and filaments or swirling vortices 10 m - 1 km in horizontal...\n______________________________\nThis Event Downloaded From a Helios Calendar Powered Site
LOCATION:Mitchell Earth Sciences Building (04-560) - 397 Panama Mall Stanford University\, Stanford\, CA  94305
CATEGORIES:BayAreaScience.org Events
PRIORITY:0
TRANSP:TRANSPARENT
END:VEVENT
END:VCALENDAR