BEGIN:VCALENDAR
VERSION:2.0
METHOD:PUBLISH
CALSCALE:GREGORIAN
PRODID:-//Refresh Web Development//Helios Calendar//EN
X-FROM-URL:https://www.bayareascience.org/calendar/index.php?com=details&eID=35363
X-WR-RELCALID:BayAreaScience.org Flying robots: exploring hybrid locomotion and physical interaction 20240129T160000
X-WR-TIMEZONE:America/New_York
X-WR-CALNAME:BayAreaScience.org
BEGIN:VEVENT
URL;VALUE=URI:https://www.bayareascience.org/calendar/index.php?com=detail&eID=35363
DTSTART:20240129T160000
DTEND:20240129T170000
SUMMARY:Flying robots: exploring hybrid locomotion and physical interaction
DESCRIPTION:Autonomous flying robots have become widespread in recent years\, yet their capability to interact with the environment remains limited. Moving in multiple fluids is one of the great challenges...\n______________________________\nThis Event Downloaded From a Helios Calendar Powered Site
LOCATION:Cory Hall - UC Berkeley Room 540 A/B\, Berkeley\, CA  94720
CATEGORIES:BayAreaScience.org Events
PRIORITY:0
TRANSP:TRANSPARENT
END:VEVENT
END:VCALENDAR