BEGIN:VCALENDAR
VERSION:2.0
METHOD:PUBLISH
CALSCALE:GREGORIAN
PRODID:-//Refresh Web Development//Helios Calendar//EN
X-FROM-URL:https://www.bayareascience.org/calendar/index.php?com=details&eID=35365
X-WR-RELCALID:BayAreaScience.org Uncovering the Ocean's Deepest Secrets - Livestream 20240326T190000
X-WR-TIMEZONE:America/New_York
X-WR-CALNAME:BayAreaScience.org
BEGIN:VEVENT
URL;VALUE=URI:https://www.bayareascience.org/calendar/index.php?com=detail&eID=35365
DTSTART:20240326T190000
DTEND:20240326T203000
SUMMARY:Uncovering the Ocean's Deepest Secrets - Livestream
DESCRIPTION:We are thrilled to accompany author\, Susan Casey in "Uncovering the Ocean's Deepest Secrets". In her latest book\,Â The Underworld: Journeys to the Depths of the Ocean\, she embedded for...\n______________________________\nThis Event Downloaded From a Helios Calendar Powered Site
LOCATION:American Cetacean Society -  \, \, CA  
CATEGORIES:BayAreaScience.org Events
PRIORITY:0
TRANSP:TRANSPARENT
END:VEVENT
END:VCALENDAR