BEGIN:VCALENDAR
VERSION:2.0
METHOD:PUBLISH
CALSCALE:GREGORIAN
PRODID:-//Refresh Web Development//Helios Calendar//EN
X-FROM-URL:https://www.bayareascience.org/calendar/index.php?com=details&eID=35369
X-WR-RELCALID:BayAreaScience.org The Secrets behind a Skeptical Podcast 20240210T130000
X-WR-TIMEZONE:America/New_York
X-WR-CALNAME:BayAreaScience.org
BEGIN:VEVENT
URL;VALUE=URI:https://www.bayareascience.org/calendar/index.php?com=detail&eID=35369
DTSTART:20240210T130000
DTEND:20240210T143000
SUMMARY:The Secrets behind a Skeptical Podcast
DESCRIPTION:Richard Saunders\, host of The Skeptic Zone podcast for 17 years\, takes you behind-the-scenes on how a typical podcast is created each week. From conducting interviews and gathering information...\n______________________________\nThis Event Downloaded From a Helios Calendar Powered Site
LOCATION:Berkeley Public Library - 2090 Kittredge \, Berkeley\, CA USA 94704
CATEGORIES:BayAreaScience.org Events
PRIORITY:0
TRANSP:TRANSPARENT
END:VEVENT
END:VCALENDAR