BEGIN:VCALENDAR
VERSION:2.0
METHOD:PUBLISH
CALSCALE:GREGORIAN
PRODID:-//Refresh Web Development//Helios Calendar//EN
X-FROM-URL:https://www.bayareascience.org/calendar/index.php?com=details&eID=35382
X-WR-RELCALID:BayAreaScience.org Nerd Nite SF#139: Hiking Trails, Gender Equity in Medical Research, and the History of the Presidio 20240221T190000
X-WR-TIMEZONE:America/New_York
X-WR-CALNAME:BayAreaScience.org
BEGIN:VEVENT
URL;VALUE=URI:https://www.bayareascience.org/calendar/index.php?com=detail&eID=35382
DTSTART:20240221T190000
DTEND:20240221T220000
SUMMARY:Nerd Nite SF#139: Hiking Trails\, Gender Equity in Medical Research\, and the History of the Presidio
DESCRIPTION:Hidden History of the Presidio/MarinaSpeaker: Lucas HoWhat...\n______________________________\nThis Event Downloaded From a Helios Calendar Powered Site
LOCATION:Rickshaw Stop - 155 Fell St. @ Van Ness \, San Francisco\, CA  94102
CATEGORIES:BayAreaScience.org Events
PRIORITY:0
TRANSP:TRANSPARENT
END:VEVENT
END:VCALENDAR