BEGIN:VCALENDAR
VERSION:2.0
METHOD:PUBLISH
CALSCALE:GREGORIAN
PRODID:-//Refresh Web Development//Helios Calendar//EN
X-FROM-URL:https://www.bayareascience.org/calendar/index.php?com=details&eID=35384
X-WR-RELCALID:BayAreaScience.org Quantum Science With Rare-Earth Ions In Crystals 20240419T140000
X-WR-TIMEZONE:America/New_York
X-WR-CALNAME:BayAreaScience.org
BEGIN:VEVENT
URL;VALUE=URI:https://www.bayareascience.org/calendar/index.php?com=detail&eID=35384
DTSTART:20240419T140000
DTEND:20240419T150000
SUMMARY:Quantum Science With Rare-Earth Ions In Crystals
DESCRIPTION:Rare-earth ions in crystals\, when strongly coupled with optical and superconducting resonators\, form a novel platform that facilitates the exploration of quantum many-body physics and the development...\n______________________________\nThis Event Downloaded From a Helios Calendar Powered Site
LOCATION:Etcheverry Hall - UC Berkeley \, Berkeley\, CA  94720
CATEGORIES:BayAreaScience.org Events
PRIORITY:0
TRANSP:TRANSPARENT
END:VEVENT
END:VCALENDAR