BEGIN:VCALENDAR
VERSION:2.0
METHOD:PUBLISH
CALSCALE:GREGORIAN
PRODID:-//Refresh Web Development//Helios Calendar//EN
X-FROM-URL:https://www.bayareascience.org/calendar/index.php?com=details&eID=35387
X-WR-RELCALID:BayAreaScience.org International Women's Day at the Lawrence Hall of Science 20240309T110000
X-WR-TIMEZONE:America/New_York
X-WR-CALNAME:BayAreaScience.org
BEGIN:VEVENT
URL;VALUE=URI:https://www.bayareascience.org/calendar/index.php?com=detail&eID=35387
DTSTART:20240309T110000
DTEND:20240309T150000
SUMMARY:International Women's Day at the Lawrence Hall of Science
DESCRIPTION:Celebrate women and girls in science\, technology\, engineering\, and math on International Womenâ€™s Day! Design\, build\, and test hands-on engineering activities with the UC Berkeley chapter...\n______________________________\nThis Event Downloaded From a Helios Calendar Powered Site
LOCATION:Lawrence Hall of Science - 1 Centennial Drive \, Berkeley\, CA USA 94720
CATEGORIES:BayAreaScience.org Events
PRIORITY:0
TRANSP:TRANSPARENT
END:VEVENT
END:VCALENDAR