BEGIN:VCALENDAR
VERSION:2.0
METHOD:PUBLISH
CALSCALE:GREGORIAN
PRODID:-//Refresh Web Development//Helios Calendar//EN
X-FROM-URL:https://www.bayareascience.org/calendar/index.php?com=details&eID=35388
X-WR-RELCALID:BayAreaScience.org Embryos to ecosystems: Integrating studies at multiple levels of biological organization in aquatic toxicology - Livestream 20240207T154000
X-WR-TIMEZONE:America/New_York
X-WR-CALNAME:BayAreaScience.org
BEGIN:VEVENT
URL;VALUE=URI:https://www.bayareascience.org/calendar/index.php?com=detail&eID=35388
DTSTART:20240207T154000
DTEND:20240207T154000
SUMMARY:Embryos to ecosystems: Integrating studies at multiple levels of biological organization in aquatic toxicology - Livestream
DESCRIPTION:Anthropogenic stressors\,...\n______________________________\nThis Event Downloaded From a Helios Calendar Powered Site
LOCATION:Estuary and Ocean Science Center -  \, \, CA  
CATEGORIES:BayAreaScience.org Events
PRIORITY:0
TRANSP:TRANSPARENT
END:VEVENT
END:VCALENDAR