BEGIN:VCALENDAR
VERSION:2.0
METHOD:PUBLISH
CALSCALE:GREGORIAN
PRODID:-//Refresh Web Development//Helios Calendar//EN
X-FROM-URL:https://www.bayareascience.org/calendar/index.php?com=details&eID=35389
X-WR-RELCALID:BayAreaScience.org Changing whale migration in a changing planet - Livestream 20240214T154000
X-WR-TIMEZONE:America/New_York
X-WR-CALNAME:BayAreaScience.org
BEGIN:VEVENT
URL;VALUE=URI:https://www.bayareascience.org/calendar/index.php?com=detail&eID=35389
DTSTART:20240214T154000
DTEND:20240214T154000
SUMMARY:Changing whale migration in a changing planet - Livestream
DESCRIPTION:Speaker:Â Angela Szesciorka\, Research Associate\, Oregon State UniversitySee weblink for Zoom information\n______________________________\nThis Event Downloaded From a Helios Calendar Powered Site
LOCATION:Estuary and Ocean Science Center -  \, \, CA  
CATEGORIES:BayAreaScience.org Events
PRIORITY:0
TRANSP:TRANSPARENT
END:VEVENT
END:VCALENDAR