BEGIN:VCALENDAR
VERSION:2.0
METHOD:PUBLISH
CALSCALE:GREGORIAN
PRODID:-//Refresh Web Development//Helios Calendar//EN
X-FROM-URL:https://www.bayareascience.org/calendar/index.php?com=details&eID=35392
X-WR-RELCALID:BayAreaScience.org Art, Ecology, Poetry: Playing with Facts, Fact-Checking Creativity - Livestream 20240403T154000
X-WR-TIMEZONE:America/New_York
X-WR-CALNAME:BayAreaScience.org
BEGIN:VEVENT
URL;VALUE=URI:https://www.bayareascience.org/calendar/index.php?com=detail&eID=35392
DTSTART:20240403T154000
DTEND:20240403T154000
SUMMARY:Art\, Ecology\, Poetry: Playing with Facts\, Fact-Checking Creativity - Livestream
DESCRIPTION:Sometimes information isnâ€™t enough. Facts donâ€™t always engage people in the ecological or environmental questions of our time. Sensory experiences\, memories\, humor\, and cultural knowledge...\n______________________________\nThis Event Downloaded From a Helios Calendar Powered Site
LOCATION:Estuary and Ocean Science Center -  \, \, CA  
CATEGORIES:BayAreaScience.org Events
PRIORITY:0
TRANSP:TRANSPARENT
END:VEVENT
END:VCALENDAR