BEGIN:VCALENDAR
VERSION:2.0
METHOD:PUBLISH
CALSCALE:GREGORIAN
PRODID:-//Refresh Web Development//Helios Calendar//EN
X-FROM-URL:https://www.bayareascience.org/calendar/index.php?com=details&eID=35394
X-WR-RELCALID:BayAreaScience.org The restoration of California's imperiled vegetated marine ecosystems - Livestream 20240515T154000
X-WR-TIMEZONE:America/New_York
X-WR-CALNAME:BayAreaScience.org
BEGIN:VEVENT
URL;VALUE=URI:https://www.bayareascience.org/calendar/index.php?com=detail&eID=35394
DTSTART:20240515T154000
DTEND:20240515T154000
SUMMARY:The restoration of California's imperiled vegetated marine ecosystems - Livestream
DESCRIPTION:Over the last few decades widespread documentation of the decline of coastal ecosystems has been increasing\, leaving scientists and managers scrambling to find solutions. Californiaâ€™s marine...\n______________________________\nThis Event Downloaded From a Helios Calendar Powered Site
LOCATION:Estuary and Ocean Science Center -  \, \, CA  
CATEGORIES:BayAreaScience.org Events
PRIORITY:0
TRANSP:TRANSPARENT
END:VEVENT
END:VCALENDAR