BEGIN:VCALENDAR
VERSION:2.0
METHOD:PUBLISH
CALSCALE:GREGORIAN
PRODID:-//Refresh Web Development//Helios Calendar//EN
X-FROM-URL:https://www.bayareascience.org/calendar/index.php?com=details&eID=35398
X-WR-RELCALID:BayAreaScience.org Self-Guided Volunteer Opportunity: February 2024 King Tides in Alviso 20240209T110000
X-WR-TIMEZONE:America/New_York
X-WR-CALNAME:BayAreaScience.org
BEGIN:VEVENT
URL;VALUE=URI:https://www.bayareascience.org/calendar/index.php?com=detail&eID=35398
DTSTART:20240209T110000
DTEND:20240209T123000
SUMMARY:Self-Guided Volunteer Opportunity: February 2024 King Tides in Alviso
DESCRIPTION:Observe & record this February's King Tide event by taking and submitting your photos!Interested in a volunteer opportunity you can do for school\, work\, or just for...\n______________________________\nThis Event Downloaded From a Helios Calendar Powered Site
LOCATION:Don Edwards Refuge Environmental Education Center - 1751 Grand Blvd \, Alviso\, CA  95002
CATEGORIES:BayAreaScience.org Events
PRIORITY:0
TRANSP:TRANSPARENT
END:VEVENT
END:VCALENDAR