BEGIN:VCALENDAR
VERSION:2.0
METHOD:PUBLISH
CALSCALE:GREGORIAN
PRODID:-//Refresh Web Development//Helios Calendar//EN
X-FROM-URL:https://www.bayareascience.org/calendar/index.php?com=details&eID=35399
X-WR-RELCALID:BayAreaScience.org  Bird Walk at Pond SF2 20240216T100000
X-WR-TIMEZONE:America/New_York
X-WR-CALNAME:BayAreaScience.org
BEGIN:VEVENT
URL;VALUE=URI:https://www.bayareascience.org/calendar/index.php?com=detail&eID=35399
DTSTART:20240216T100000
DTEND:20240216T113000
SUMMARY: Bird Walk at Pond SF2
DESCRIPTION:Join us for a leisurely\, morning stroll to view shorebirds that frequent the Pond SF2! This will be an interpretive guided tour to learn about resident bird species\, migratory birds and the...\n______________________________\nThis Event Downloaded From a Helios Calendar Powered Site
LOCATION:Don Edwards Refuge Ravenswood Unit - 2100 Willow Road \, Menlo Park\, CA  94025
CATEGORIES:BayAreaScience.org Events
PRIORITY:0
TRANSP:TRANSPARENT
END:VEVENT
END:VCALENDAR