BEGIN:VCALENDAR
VERSION:2.0
METHOD:PUBLISH
CALSCALE:GREGORIAN
PRODID:-//Refresh Web Development//Helios Calendar//EN
X-FROM-URL:https://www.bayareascience.org/calendar/index.php?com=details&eID=35400
X-WR-RELCALID:BayAreaScience.org Family Bird Walk 20240224T120000
X-WR-TIMEZONE:America/New_York
X-WR-CALNAME:BayAreaScience.org
BEGIN:VEVENT
URL;VALUE=URI:https://www.bayareascience.org/calendar/index.php?com=detail&eID=35400
DTSTART:20240224T120000
DTEND:20240224T140000
SUMMARY:Family Bird Walk
DESCRIPTION:Let family walks become a shared time of nature learning. Weâ€™ll begin by helping kids create their personal bird watching field guides\, and then head out onto the trails to find those...\n______________________________\nThis Event Downloaded From a Helios Calendar Powered Site
LOCATION:Don Edwards Refuge Headquarters & Visitors Center - 2 Marshlands Road \, Fremont\, CA  94555
CATEGORIES:BayAreaScience.org Events
PRIORITY:0
TRANSP:TRANSPARENT
END:VEVENT
END:VCALENDAR