BEGIN:VCALENDAR
VERSION:2.0
METHOD:PUBLISH
CALSCALE:GREGORIAN
PRODID:-//Refresh Web Development//Helios Calendar//EN
X-FROM-URL:https://www.bayareascience.org/calendar/index.php?com=details&eID=35414
X-WR-RELCALID:BayAreaScience.org Electron solids in two-dimensional semiconductor heterostructures 20240205T143000
X-WR-TIMEZONE:America/New_York
X-WR-CALNAME:BayAreaScience.org
BEGIN:VEVENT
URL;VALUE=URI:https://www.bayareascience.org/calendar/index.php?com=detail&eID=35414
DTSTART:20240205T143000
DTEND:20240205T153000
SUMMARY:Electron solids in two-dimensional semiconductor heterostructures
DESCRIPTION:Atomically thin two-dimensional (2D) semiconductors and heterostructures offer an exciting platform for the study of tunable correlated electronic phenomena. The interaction between electrons in...\n______________________________\nThis Event Downloaded From a Helios Calendar Powered Site
LOCATION:Birge Hall - 100 South Dr Room 50\, UC Berkeley\, Berkeley\, CA  94720
CATEGORIES:BayAreaScience.org Events
PRIORITY:0
TRANSP:TRANSPARENT
END:VEVENT
END:VCALENDAR