BEGIN:VCALENDAR
VERSION:2.0
METHOD:PUBLISH
CALSCALE:GREGORIAN
PRODID:-//Refresh Web Development//Helios Calendar//EN
X-FROM-URL:https://www.bayareascience.org/calendar/index.php?com=details&eID=35425
X-WR-RELCALID:BayAreaScience.org Space for Her: Celebrating Women in Space Science 20240316T100000
X-WR-TIMEZONE:America/New_York
X-WR-CALNAME:BayAreaScience.org
BEGIN:VEVENT
URL;VALUE=URI:https://www.bayareascience.org/calendar/index.php?com=detail&eID=35425
DTSTART:20240316T100000
DTEND:20240316T160000
SUMMARY:Space for Her: Celebrating Women in Space Science
DESCRIPTION:In November of 2024\, NASAâ€™s Artemis 2 is set to launch their first crewed mission of the Orion Spacecraft\, which will land the first woman on the moon. Meanwhile\, women have been making...\n______________________________\nThis Event Downloaded From a Helios Calendar Powered Site
LOCATION:Chabot Space and Science Center - 10000 Skyline Blvd \, Oakland\, CA USA 94619
CATEGORIES:BayAreaScience.org Events
PRIORITY:0
TRANSP:TRANSPARENT
END:VEVENT
END:VCALENDAR