BEGIN:VCALENDAR
VERSION:2.0
METHOD:PUBLISH
CALSCALE:GREGORIAN
PRODID:-//Refresh Web Development//Helios Calendar//EN
X-FROM-URL:https://www.bayareascience.org/calendar/index.php?com=details&eID=35434
X-WR-RELCALID:BayAreaScience.org Digital Conflict Through the Lens of National Security 20240207T190000
X-WR-TIMEZONE:America/New_York
X-WR-CALNAME:BayAreaScience.org
BEGIN:VEVENT
URL;VALUE=URI:https://www.bayareascience.org/calendar/index.php?com=detail&eID=35434
DTSTART:20240207T190000
DTEND:20240207T203000
SUMMARY:Digital Conflict Through the Lens of National Security
DESCRIPTION:This talk surveys the landscape of digital security as a national security issue. Herbert Lin will address both offensive operations in cyberspace (essentially\, computer hacking as an instrument...\n______________________________\nThis Event Downloaded From a Helios Calendar Powered Site
LOCATION:Los Altos Public Library - 13 S San Antonio Rd Peninsula Astronomical Society\, Los Altos\, CA  94022
CATEGORIES:BayAreaScience.org Events
PRIORITY:0
TRANSP:TRANSPARENT
END:VEVENT
END:VCALENDAR