BEGIN:VCALENDAR
VERSION:2.0
METHOD:PUBLISH
CALSCALE:GREGORIAN
PRODID:-//Refresh Web Development//Helios Calendar//EN
X-FROM-URL:https://www.bayareascience.org/calendar/index.php?com=details&eID=35436
X-WR-RELCALID:BayAreaScience.org Teaching Language Models how to coordinate - Livestream 20240227T190000
X-WR-TIMEZONE:America/New_York
X-WR-CALNAME:BayAreaScience.org
BEGIN:VEVENT
URL;VALUE=URI:https://www.bayareascience.org/calendar/index.php?com=detail&eID=35436
DTSTART:20240227T190000
DTEND:20240227T190000
SUMMARY:Teaching Language Models how to coordinate - Livestream
DESCRIPTION:Large Language Models\, despite their astounding reasoning abilities\, are not faithful problem solvers. While their abilities are strongly correlated with scale\, even humongous models like GPT-3.5...\n______________________________\nThis Event Downloaded From a Helios Calendar Powered Site
LOCATION:IEEE Computer Society of Silicon Valley -  \, \, CA  
CATEGORIES:BayAreaScience.org Events
PRIORITY:0
TRANSP:TRANSPARENT
END:VEVENT
END:VCALENDAR