BEGIN:VCALENDAR
VERSION:2.0
METHOD:PUBLISH
CALSCALE:GREGORIAN
PRODID:-//Refresh Web Development//Helios Calendar//EN
X-FROM-URL:https://www.bayareascience.org/calendar/index.php?com=details&eID=35439
X-WR-RELCALID:BayAreaScience.org Rocketfest 20240323T100000
X-WR-TIMEZONE:America/New_York
X-WR-CALNAME:BayAreaScience.org
BEGIN:VEVENT
URL;VALUE=URI:https://www.bayareascience.org/calendar/index.php?com=detail&eID=35439
DTSTART:20240323T100000
DTEND:20240323T160000
SUMMARY:Rocketfest
DESCRIPTION:Blast off to Chabot Space & Science Center for a day filled with hands-on fun! The Center is hosting our first-ever Rocketfest. These feats of engineering allow us to send satellites into orbit\,...\n______________________________\nThis Event Downloaded From a Helios Calendar Powered Site
LOCATION:Chabot Space and Science Center - 10000 Skyline Blvd \, Oakland\, CA USA 94619
CATEGORIES:BayAreaScience.org Events
PRIORITY:0
TRANSP:TRANSPARENT
END:VEVENT
END:VCALENDAR