BEGIN:VCALENDAR
VERSION:2.0
METHOD:PUBLISH
CALSCALE:GREGORIAN
PRODID:-//Refresh Web Development//Helios Calendar//EN
X-FROM-URL:https://www.bayareascience.org/calendar/index.php?com=details&eID=35441
X-WR-RELCALID:BayAreaScience.org Building Scalable & Reliable AI apps with Cloud Native Technologies Workshop 20240302T093000
X-WR-TIMEZONE:America/New_York
X-WR-CALNAME:BayAreaScience.org
BEGIN:VEVENT
URL;VALUE=URI:https://www.bayareascience.org/calendar/index.php?com=detail&eID=35441
DTSTART:20240302T093000
DTEND:20240302T163000
SUMMARY:Building Scalable & Reliable AI apps with Cloud Native Technologies Workshop
DESCRIPTION:Cloud Native (CN) technologies provide scalable and reliable platforms to host AI based technologies. This 1-day workshop is intended to expose and educate attendees on the available tooling in...\n______________________________\nThis Event Downloaded From a Helios Calendar Powered Site
LOCATION:Hacker Dojo - 855 Maude Avenue \, Mountain View\, CA  94043
CATEGORIES:BayAreaScience.org Events
PRIORITY:0
TRANSP:TRANSPARENT
END:VEVENT
END:VCALENDAR